BEGIN:VCALENDAR
VERSION:2.0
METHOD:PUBLISH
PRODID::-//Obvius//NONSGML ICal//DA
BEGIN:VEVENT
UID:2545037@akc.ku.dk
DESCRIPTION:Professor Enrique Jaimovich\, Universidad de Chile\, Chile pre
 senting inÂ August Krogh / CWS Seminar.\n\nhttps://akc.ku.dk/calendar/2017
 /enrique-jaimovich_seminar/
SUMMARY:AKC / CWS Seminar: Calcium signals mediate excitation-metabolism c
 oupling in skeletal muscle
LOCATION:Auditorium 1\, August Krogh Building\, Universitetsparken 13\, DK
 -2100 Copenhagen 
ORGANIZER:August Krogh Club
DTSTART:20170612T123000Z
DTSTAMP:20170612T123000Z
DTEND:20170612T143000Z
END:VEVENT
BEGIN:VEVENT
UID:2500586@akc.ku.dk
DESCRIPTION:Professor Mark FebbraioÂ presenting in August Krogh / CWS mini
  symposium with Professor Hadi Al-Hasani\, Dr. Benjamin L. Parker\, PhD\;Â
  and Dr. Adam Rose\, PhD.\n\nhttps://akc.ku.dk/calendar/2017/mark-febbraio
 _4seminar/
SUMMARY:AKC / CWS mini symposium: The engineered designer cytokine IC7 pro
 tects against obesity-induced metabolic disease
LOCATION:Auditorium 1\, August Krogh Building\, Universitetsparken 13\, DK
 -2100 Copenhagen 
ORGANIZER:August Krogh Club
DTSTART:20170519T130000Z
DTSTAMP:20170519T130000Z
DTEND:20170519T135500Z
END:VEVENT
BEGIN:VEVENT
UID:2500562@akc.ku.dk
DESCRIPTION:Dr. Adam J. Rose\, PhD presenting in August Krogh / CWS mini s
 ymposium with Professor Hadi Al-Hasani\; Dr. Benjamin L. Parker\, PhD\;Â a
 nd Professor Mark Febbraio.\n\nhttps://akc.ku.dk/calendar/2017/adam-rose_4
 seminar/
SUMMARY:AKC / CWS mini symposium: Liver adaptive stress signalling and sys
 temic metabolic control
LOCATION:Auditorium 1\, August Krogh Building\, Universitetsparken 13\, DK
 -2100 Copenhagen 
ORGANIZER:August Krogh Club
DTSTART:20170519T123000Z
DTSTAMP:20170519T123000Z
DTEND:20170519T130000Z
END:VEVENT
BEGIN:VEVENT
UID:2497466@akc.ku.dk
DESCRIPTION:Dr. Benjamin L. Parker\, PhD presenting in August Krogh / CWS 
 mini symposium with Professor Hadi Al-Hasani\, Dr. Adam Rose\, PhD\; and P
 rofessor Mark Febbraio.\n\nhttps://akc.ku.dk/calendar/2017/benjamin-parker
 _4seminar/
SUMMARY:AKC / CWS mini symposium: Genetic Regulation of Proteome and Lipid
 ome Diversity and its Contribution to Hepatic Steatosis
LOCATION:Auditorium 1\, August Krogh Building\, Universitetsparken 13\, DK
 -2100 Copenhagen 
ORGANIZER:August Krogh Club
DTSTART:20170519T115500Z
DTSTAMP:20170519T115500Z
DTEND:20170519T122500Z
END:VEVENT
BEGIN:VEVENT
UID:2497463@akc.ku.dk
DESCRIPTION:Professor Hadi Al-Hasani presenting in August Krogh / CWS mini
  symposium with Dr. Benjamin L. Parker\, PhD\; Dr. Adam Rose\, PhD\;Â and 
 Professor Mark Febbraio.\n\nhttps://akc.ku.dk/calendar/2017/hadi-al-hasani
 _4seminar/
SUMMARY:AKC / CWS mini symposium: Dissecting the pathophysiology and genet
 ics of type 2 diabetes and obesity with polygenic mouse models
LOCATION:Auditorium 1\, August Krogh Building\, Universitetsparken 13\, DK
 -2100 Copenhagen 
ORGANIZER:August Krogh Club
DTSTART:20170519T110000Z
DTSTAMP:20170519T110000Z
DTEND:20170519T115500Z
END:VEVENT
BEGIN:VEVENT
UID:2419739@akc.ku.dk
DESCRIPTION:Dr. Mike Murphy presenting inÂ August Krogh Seminar.\n\nhttps:
 //akc.ku.dk/calendar/2017/mike-murphy_seminar/
SUMMARY:AKC Seminar: Mitochondrial ROS production in health and disease
LOCATION:Auditorium 1\, August Krogh Building\, Universitetsparken 13\, DK
 -2100 Copenhagen 
ORGANIZER:August Krogh Club
DTSTART:20170428T120000Z
DTSTAMP:20170428T120000Z
DTEND:20170428T133000Z
END:VEVENT
END:VCALENDAR
